BEGIN:VCALENDAR
VERSION:2.0
PRODID:-//ChamberMaster//Event Calendar 2.0//EN
METHOD:PUBLISH
X-PUBLISHED-TTL:P3D
REFRESH-INTERVAL:P3D
CALSCALE:GREGORIAN
BEGIN:VEVENT
DTSTART;VALUE=DATE:20120618
DTEND;VALUE=DATE:20120622
TRANSP:TRANSPARENT
X-MICROSOFT-CDO-ALLDAYEVENT:TRUE
SUMMARY:Beatrice High Football Camp
DESCRIPTION:Beatrice High School Football Camp for players entering 9-12 grades in the fall will be held June 18-21 at the new athletic complex. \n\n\n\nCost for the camp is $40 per player or $50 for two players from the same family.  The camp will run from 8 - 11 am each day. \n\n\n\nFor more information\, contact coach Bob Sexton at 402-520-2264.
X-ALT-DESC;FMTTYPE=text/html:Beatrice High School Football Camp for players entering 9-12 grades in the fall will be held June 18-21 at the new athletic complex.&nbsp\;<br />\n<br />\nCost for the camp is $40 per player or $50 for two players from the same family.&nbsp\; The camp will run from 8 - 11 am each day.&nbsp\;<br />\n<br />\nFor more information\, contact coach Bob Sexton at 402-520-2264.
LOCATION:
UID:e.41.5423
SEQUENCE:3
DTSTAMP:20260422T131407Z
URL:https://business.beatricechamber.com/events/details/beatrice-high-football-camp-06-18-2012-5423
END:VEVENT

END:VCALENDAR
