BEGIN:VCALENDAR
VERSION:2.0
PRODID:-//ChamberMaster//Event Calendar 2.0//EN
METHOD:PUBLISH
X-PUBLISHED-TTL:P3D
REFRESH-INTERVAL:P3D
CALSCALE:GREGORIAN
BEGIN:VEVENT
DTSTART;VALUE=DATE:20100503
DTEND;VALUE=DATE:20100504
TRANSP:TRANSPARENT
X-MICROSOFT-CDO-ALLDAYEVENT:TRUE
SUMMARY:Beatrice High School Band Concert
DESCRIPTION:Beatrice High School Band Concert May 3\, 20107 p.m. Hevelone Center featuring:  BHS Wind Ensemble\, Jazz Ensemble\, and Concert Band Admission:  Freewill donation
X-ALT-DESC;FMTTYPE=text/html:<div>Beatrice High School Band Concert</div><div>&nbsp\;</div><div>May 3\, 2010</div><div>7 p.m.</div><div>&nbsp\;</div><div>Hevelone Center</div><div>&nbsp\;</div><div>featuring:&nbsp\; BHS&nbsp\;Wind Ensemble\, Jazz Ensemble\, and Concert Band</div><div>&nbsp\;</div><div>Admission:&nbsp\; Freewill donation</div>
LOCATION:
UID:e.41.1982
SEQUENCE:3
DTSTAMP:20260425T122753Z
URL:https://business.beatricechamber.com/events/details/beatrice-high-school-band-concert-05-03-2010-1982
END:VEVENT

END:VCALENDAR
