BEGIN:VCALENDAR
VERSION:2.0
PRODID:-//ChamberMaster//Event Calendar 2.0//EN
METHOD:PUBLISH
X-PUBLISHED-TTL:P3D
REFRESH-INTERVAL:P3D
CALSCALE:GREGORIAN
BEGIN:VEVENT
DTSTART;VALUE=DATE:20110729
DTEND;VALUE=DATE:20110730
TRANSP:TRANSPARENT
X-MICROSOFT-CDO-ALLDAYEVENT:TRUE
SUMMARY:Beatrice High School Class of 1976 35th Class Reunion
DESCRIPTION:Starts at 7 p.m.\, informal get-together at Risky's in Beatrice with hors d'oerves and cash bar.  BHS alumni from the classes of  1974-1978 also welcome.  For more information call 402-228-6071 or koils@hotmail.com
X-ALT-DESC;FMTTYPE=text/html:<p>\n	Starts at 7 p.m.\, informal get-together at Risky&#39\;s in Beatrice with hors d&#39\;oerves and cash bar.&nbsp\; BHS alumni from the classes of&nbsp\; 1974-1978 also welcome.&nbsp\; For more information&nbsp\;call 402-228-6071 or <a href="mailto:koils@hotmail.com">koils@hotmail.com</a></p>\n
LOCATION:
UID:e.41.4988
SEQUENCE:3
DTSTAMP:20260424T154314Z
URL:https://business.beatricechamber.com/events/details/beatrice-high-school-class-of-1976-35th-class-reunion-07-29-2011-4988
END:VEVENT

END:VCALENDAR
