BEGIN:VCALENDAR
VERSION:2.0
PRODID:-//ChamberMaster//Event Calendar 2.0//EN
METHOD:PUBLISH
X-PUBLISHED-TTL:P3D
REFRESH-INTERVAL:P3D
CALSCALE:GREGORIAN
BEGIN:VEVENT
DTSTART;VALUE=DATE:20110730
DTEND;VALUE=DATE:20110731
TRANSP:TRANSPARENT
X-MICROSOFT-CDO-ALLDAYEVENT:TRUE
SUMMARY:Beatrice High School Class of 1976 35th Year Class Reunion
DESCRIPTION:Dinner at Valentino's in Beatrice at 7 p.m.  Advance reservations needed.  Contact Keith Knabe for more information at 402-228-6071 or koils@hotmail.com.
X-ALT-DESC;FMTTYPE=text/html:Dinner at Valentino&#39\;s in Beatrice at 7 p.m.&nbsp\; Advance reservations needed.&nbsp\; Contact Keith Knabe for more information at 402-228-6071 or <a href="mailto:koils@hotmail.com">koils@hotmail.com</a>.
LOCATION:
UID:e.41.4992
SEQUENCE:3
DTSTAMP:20260424T154303Z
URL:https://business.beatricechamber.com/events/details/beatrice-high-school-class-of-1976-35th-year-class-reunion-07-30-2011-4992
END:VEVENT

END:VCALENDAR
