BEGIN:VCALENDAR
VERSION:2.0
PRODID:-//ChamberMaster//Event Calendar 2.0//EN
METHOD:PUBLISH
X-PUBLISHED-TTL:P3D
REFRESH-INTERVAL:P3D
CALSCALE:GREGORIAN
BEGIN:VEVENT
DTSTART;VALUE=DATE:20120505
DTEND;VALUE=DATE:20120506
TRANSP:TRANSPARENT
X-MICROSOFT-CDO-ALLDAYEVENT:TRUE
SUMMARY:Beatrice High School Class of 2007
DESCRIPTION:8 p.m.\, five-year at Risky's Sports Bar and Grill in Beatrice. Spouses\, significant others and children are welcome. For information\, contact Jenna Busboom at 402-228-6112 or Krista (Zarybnicky) Haake at 402-520-1705.
X-ALT-DESC;FMTTYPE=text/html:8 p.m.\, five-year at Risky&#39\;s Sports Bar and Grill in Beatrice. Spouses\, significant others and children&nbsp\;are&nbsp\;welcome.&nbsp\;For information\, contact&nbsp\;Jenna Busboom&nbsp\;at&nbsp\;402-228-6112&nbsp\;or Krista&nbsp\;(Zarybnicky)&nbsp\;Haake at&nbsp\;402-520-1705.
LOCATION:
UID:e.41.5493
SEQUENCE:3
DTSTAMP:20260422T142558Z
URL:https://business.beatricechamber.com/events/details/beatrice-high-school-class-of-2007-05-05-2012-5493
END:VEVENT

END:VCALENDAR
