BEGIN:VCALENDAR
VERSION:2.0
PRODID:-//ChamberMaster//Event Calendar 2.0//EN
METHOD:PUBLISH
X-PUBLISHED-TTL:P3D
REFRESH-INTERVAL:P3D
CALSCALE:GREGORIAN
BEGIN:VEVENT
DTSTART;VALUE=DATE:20120324
DTEND;VALUE=DATE:20120325
TRANSP:TRANSPARENT
X-MICROSOFT-CDO-ALLDAYEVENT:TRUE
SUMMARY:Beatrice High School Concert
DESCRIPTION:The Beatrice Regional Orchestra will be joined by the Beatrice High School Concert Choir and the Norris Titan Singers in a special concert\, "Psalms\, Hymns\, and Spiritual Songs"\n\n\n\nSaturday\, March 24\n\n7 pm\n\n\n\nHevelone Center for Performing Arts\n\nBeatrice High School\n\n600 Orange Blvd\n\n\n\nThe orchestra will perform the first half of the concert and the choirs will join in for the second half to perform "Missa Festiva" by John Leavitt\, a 25-minute contemporary mass.  The concert will feature around 140 singers in addition to the orchestra.\n\n\n\nThe orchestra will be doing pieces by Bach and Handel\, as well as the fourth movement from Mendelssohn's Reformation Symphony and Finlandia by Silbelius.\n\n\n\nThe final piece\, "Were You there\," was written by director Kevin Boesiger for the choirs and orchestra.
X-ALT-DESC;FMTTYPE=text/html:The Beatrice Regional Orchestra will be joined by the Beatrice High School Concert Choir and the Norris Titan Singers in a special concert\, &quot\;Psalms\, Hymns\, and Spiritual Songs&quot\;<br />\n<br />\nSaturday\, March 24<br />\n7 pm<br />\n<br />\nHevelone Center for Performing Arts<br />\nBeatrice High School<br />\n600 Orange Blvd<br />\n<br />\nThe orchestra will perform the first half of the concert and the choirs will join in for the second half to perform &quot\;Missa Festiva&quot\; by John Leavitt\, a 25-minute contemporary mass.&nbsp\; The concert will feature around 140 singers in addition to the orchestra.<br />\n<br />\nThe orchestra will be doing pieces by Bach and Handel\, as well as the fourth movement from Mendelssohn&#39\;s Reformation Symphony and Finlandia by Silbelius.<br />\n<br />\nThe final piece\, &quot\;Were You there\,&quot\; was written by director Kevin Boesiger for the choirs and orchestra.
LOCATION:
UID:e.41.5338
SEQUENCE:3
DTSTAMP:20260422T173036Z
URL:https://business.beatricechamber.com/events/details/beatrice-high-school-concert-03-24-2012-5338
END:VEVENT

END:VCALENDAR
