BEGIN:VCALENDAR
VERSION:2.0
PRODID:-//ChamberMaster//Event Calendar 2.0//EN
METHOD:PUBLISH
X-PUBLISHED-TTL:P3D
REFRESH-INTERVAL:P3D
CALSCALE:GREGORIAN
BEGIN:VEVENT
DTSTART;VALUE=DATE:20111023
DTEND;VALUE=DATE:20111024
TRANSP:TRANSPARENT
X-MICROSOFT-CDO-ALLDAYEVENT:TRUE
SUMMARY:Beatrice Humane Society's Blessing of the Animals
DESCRIPTION:Beatrice Humane Society's Blessing of the Animals\n\n\n\nSunday\, October 23\n\n4 pm\n\nCharles Park (adjacent to the Carnegie Library between 5th & Sixth Streets)\n\n\n\nSpecial blessing by the Rev. Jimmy Shelbourn.  Pet owners are to bring their pets in carriers or on leashes to prevent unpleasant encounters of any kind.
X-ALT-DESC;FMTTYPE=text/html:Beatrice Humane Society&#39\;s Blessing of the Animals<br />\n<br />\nSunday\, October 23<br />\n4 pm<br />\nCharles Park (adjacent to the Carnegie Library between 5th &amp\; Sixth Streets)<br />\n<br />\nSpecial blessing by the Rev. Jimmy Shelbourn.&nbsp\; Pet owners are to bring their pets in carriers or on leashes to prevent unpleasant encounters of any kind.
LOCATION:
UID:e.41.5200
SEQUENCE:3
DTSTAMP:20260424T111952Z
URL:https://business.beatricechamber.com/events/details/beatrice-humane-society-s-blessing-of-the-animals-10-23-2011-5200
END:VEVENT

END:VCALENDAR
