BEGIN:VCALENDAR
VERSION:2.0
PRODID:-//ChamberMaster//Event Calendar 2.0//EN
METHOD:PUBLISH
X-PUBLISHED-TTL:P3D
REFRESH-INTERVAL:P3D
CALSCALE:GREGORIAN
BEGIN:VEVENT
DTSTART;VALUE=DATE:20110916
DTEND;VALUE=DATE:20110917
TRANSP:TRANSPARENT
X-MICROSOFT-CDO-ALLDAYEVENT:TRUE
SUMMARY:Beatrice Humane Society "Tailgate" Fundraiser
DESCRIPTION:"Tailgate at the Rail"\n\n	Fundraiser for the Beatrice Humane Society\n\n	\n\n	Friday\, September 16\n\n	5:30-7:30 pm\n\n	\n\n	@The Rail\, 212 Court Street\n\n	\n\n	Prior to the Beatrice Orangemen home game with Aurora.  For a ticket price of $5\, the Humane Society will serve a choie of a fish fry or hot dog meal\, which includes a side dish and drink.
X-ALT-DESC;FMTTYPE=text/html:<p>\n	&quot\;Tailgate at the Rail&quot\;<br />\n	Fundraiser for the Beatrice Humane Society<br />\n	<br />\n	Friday\, September 16<br />\n	5:30-7:30 pm<br />\n	<br />\n	@The Rail\, 212 Court Street<br />\n	<br />\n	Prior to the Beatrice Orangemen home game with Aurora.&nbsp\; For a ticket price of $5\, the Humane Society will serve a choie of a fish fry or hot dog meal\, which includes a side dish and drink.&nbsp\;</p>\n
LOCATION:
UID:e.41.5103
SEQUENCE:3
DTSTAMP:20260424T123002Z
URL:https://business.beatricechamber.com/events/details/beatrice-humane-society-tailgate-fundraiser-09-16-2011-5103
END:VEVENT

END:VCALENDAR
