BEGIN:VCALENDAR
VERSION:2.0
PRODID:-//ChamberMaster//Event Calendar 2.0//EN
METHOD:PUBLISH
X-PUBLISHED-TTL:P3D
REFRESH-INTERVAL:P3D
CALSCALE:GREGORIAN
BEGIN:VEVENT
DTSTART;VALUE=DATE:20120509
DTEND;VALUE=DATE:20120510
TRANSP:TRANSPARENT
X-MICROSOFT-CDO-ALLDAYEVENT:TRUE
SUMMARY:Beatrice Job Search Workshop
DESCRIPTION:Time: 1:30 p.m \n\n\n\nPlace: Department of Labor (Workforce Development)\, Southeast Community College Campus\, Adams Hall\, Beatrice\n\n\n\nNo charge\n\n\n\nFor more information call 402-223-6060
X-ALT-DESC;FMTTYPE=text/html:Time: 1:30 p.m&nbsp\;<br />\n<br />\nPlace:&nbsp\;Department&nbsp\;of Labor&nbsp\;(Workforce Development)\, Southeast Community College Campus\, Adams Hall\, Beatrice<br />\n<br />\nNo charge<br />\n<br />\nFor more&nbsp\;information call 402-223-6060
LOCATION:
UID:e.41.5484
SEQUENCE:3
DTSTAMP:20260422T142434Z
URL:https://business.beatricechamber.com/events/details/beatrice-job-search-workshop-05-09-2012-5484
END:VEVENT

END:VCALENDAR
