BEGIN:VCALENDAR
VERSION:2.0
PRODID:-//ChamberMaster//Event Calendar 2.0//EN
METHOD:PUBLISH
X-PUBLISHED-TTL:P3D
REFRESH-INTERVAL:P3D
CALSCALE:GREGORIAN
BEGIN:VEVENT
DTSTART:20120912T183000Z
DTEND:20120912T183000Z
X-MICROSOFT-CDO-ALLDAYEVENT:FALSE
SUMMARY:Beatrice Job Search Workshop
DESCRIPTION:Beatrice Job Search Workshop being held by the Department of Labor\, Workforce Development).\n\n\n\nFor more information or if you plan to attend\, call 402-223-6060.
X-ALT-DESC;FMTTYPE=text/html:Beatrice Job Search Workshop being held by the Department of Labor\, Workforce Development).<br />\n<br />\nFor more information or if you plan to attend\, call 402-223-6060.
LOCATION:Workforce Development Southeast Community College Campus\, Adams Hall
UID:e.41.6642
SEQUENCE:3
DTSTAMP:20260422T090746Z
URL:https://business.beatricechamber.com/events/details/beatrice-job-search-workshop-09-12-2012-6642
END:VEVENT

END:VCALENDAR
