BEGIN:VCALENDAR
VERSION:2.0
PRODID:-//ChamberMaster//Event Calendar 2.0//EN
METHOD:PUBLISH
X-PUBLISHED-TTL:P3D
REFRESH-INTERVAL:P3D
CALSCALE:GREGORIAN
BEGIN:VEVENT
DTSTART;VALUE=DATE:20110921
DTEND;VALUE=DATE:20110922
TRANSP:TRANSPARENT
X-MICROSOFT-CDO-ALLDAYEVENT:TRUE
SUMMARY:Beatrice Job Search Workshop
DESCRIPTION:Beatrice Job Search Workshop\n\n\n\nWednesday\, September 21\n\n1:30 pm\n\n\n\nDepartment of Labor (Workforce Development)\, Southeast Community College Campus\, One Stop Center/Adams Hall\n\n\n\nNo Charge.  If you plan on attending or have questions\, call 402-223-6060
X-ALT-DESC;FMTTYPE=text/html:Beatrice Job Search Workshop<br />\n<br />\nWednesday\, September 21<br />\n1:30 pm<br />\n<br />\nDepartment of Labor (Workforce Development)\, Southeast Community College Campus\, One Stop Center/Adams Hall<br />\n<br />\nNo Charge.&nbsp\; If you plan on attending or have questions\, call 402-223-6060
LOCATION:
UID:e.41.5116
SEQUENCE:3
DTSTAMP:20260424T122946Z
URL:https://business.beatricechamber.com/events/details/beatrice-job-search-workshop-09-21-2011-5116
END:VEVENT

END:VCALENDAR
