BEGIN:VCALENDAR
VERSION:2.0
PRODID:-//ChamberMaster//Event Calendar 2.0//EN
METHOD:PUBLISH
X-PUBLISHED-TTL:P3D
REFRESH-INTERVAL:P3D
CALSCALE:GREGORIAN
BEGIN:VEVENT
DTSTART:20120529T233000Z
DTEND:20120529T233000Z
X-MICROSOFT-CDO-ALLDAYEVENT:FALSE
SUMMARY:Beatrice Legion Bingo
DESCRIPTION:Beatrice American Legion Club. Lady Auxiliary lunch stand will be open for food and drinks.
X-ALT-DESC;FMTTYPE=text/html:Beatrice&nbsp\;American Legion Club. Lady Auxiliary&nbsp\;lunch&nbsp\;stand will be&nbsp\;open for food&nbsp\;and drinks.
LOCATION:
UID:e.41.5715
SEQUENCE:3
DTSTAMP:20260422T142505Z
URL:https://business.beatricechamber.com/events/details/beatrice-legion-bingo-05-29-2012-5715
END:VEVENT

END:VCALENDAR
