BEGIN:VCALENDAR
VERSION:2.0
PRODID:-//ChamberMaster//Event Calendar 2.0//EN
METHOD:PUBLISH
X-PUBLISHED-TTL:P3D
REFRESH-INTERVAL:P3D
CALSCALE:GREGORIAN
BEGIN:VEVENT
DTSTART:20100324T220000Z
DTEND:20100325T000000Z
X-MICROSOFT-CDO-ALLDAYEVENT:FALSE
SUMMARY:Beatrice Legion Chicken Supper 3/24/10
DESCRIPTION:Beatrice American Legion AuxiliaryChicken SupperWednesday\, March 24\, 20105 p.m. - 7 p.m. Amercian Legion701 Dorsey St.Beatrice Cost is $7 for adults\, $4 for children ages 10 and younger. Meal is open to the public.
X-ALT-DESC;FMTTYPE=text/html:<div>Beatrice American Legion Auxiliary</div><div>Chicken Supper</div><div>Wednesday\, March 24\, 2010</div><div>5 p.m. - 7 p.m.</div><div>&nbsp\;</div><div>Amercian Legion</div><div>701 Dorsey St.</div><div>Beatrice</div><div>&nbsp\;</div><div>Cost is $7 for adults\, $4 for children ages 10 and younger.</div><div>&nbsp\;</div><div>Meal is open to the public.</div>
LOCATION:
UID:e.41.1928
SEQUENCE:3
DTSTAMP:20260425T153236Z
URL:https://business.beatricechamber.com/events/details/beatrice-legion-chicken-supper-3-24-10-03-24-2010-1928
END:VEVENT

END:VCALENDAR
