BEGIN:VCALENDAR
VERSION:2.0
PRODID:-//ChamberMaster//Event Calendar 2.0//EN
METHOD:PUBLISH
X-PUBLISHED-TTL:P3D
REFRESH-INTERVAL:P3D
CALSCALE:GREGORIAN
BEGIN:VEVENT
DTSTART;VALUE=DATE:20110205
DTEND;VALUE=DATE:20110207
TRANSP:TRANSPARENT
X-MICROSOFT-CDO-ALLDAYEVENT:TRUE
SUMMARY:Beatrice Optimist Gun Show
DESCRIPTION:Beatrice Optimist Gun Show\n\n\n\nSaturday\, February 5\, 9 a.m. - 5 p.m.\n\nSunday\, February 6\, 9 a.m. - 4 p.m.\n\n\n\nGage County Fairgrounds\, Beatrice\, NE\n\n\n\n$3 Admission\n\n\n\nInfo:  402-223-3549\, Jim Jameson\n\n\n\nsponsored by Beatrice Optimist Club
X-ALT-DESC;FMTTYPE=text/html:Beatrice Optimist Gun Show<br />\n<br />\nSaturday\, February 5\, 9 a.m. - 5 p.m.<br />\nSunday\, February 6\, 9 a.m.&nbsp\;- 4 p.m.<br />\n<br />\nGage County Fairgrounds\, Beatrice\, NE<br />\n<br />\n$3 Admission<br />\n<br />\nInfo:&nbsp\; 402-223-3549\, Jim Jameson<br />\n<br />\nsponsored by Beatrice Optimist Club<br />\n
LOCATION:
UID:e.41.3497
SEQUENCE:3
DTSTAMP:20260424T225602Z
URL:https://business.beatricechamber.com/events/details/beatrice-optimist-gun-show-02-05-2011-3497
END:VEVENT

END:VCALENDAR
