BEGIN:VCALENDAR
VERSION:2.0
PRODID:-//ChamberMaster//Event Calendar 2.0//EN
METHOD:PUBLISH
X-PUBLISHED-TTL:P3D
REFRESH-INTERVAL:P3D
CALSCALE:GREGORIAN
BEGIN:VEVENT
DTSTART;VALUE=DATE:20110819
DTEND;VALUE=DATE:20110820
TRANSP:TRANSPARENT
X-MICROSOFT-CDO-ALLDAYEVENT:TRUE
SUMMARY:Beatrice Orange Booster Club Tailgate and Fall Kick-Off
DESCRIPTION:5:30 p.m.-7 p.m.\, meal\; 6:30 p.m.\; senior poster signing\; 7:30 p.m.\, football field festivities\, Athletic Park\, Beatrice Middle School\, Fourth and Ella St.  Students are to turn in money and unsold tickets to Beth Lineweber at BHS by August 17.
X-ALT-DESC;FMTTYPE=text/html:5:30 p.m.-7 p.m.\, meal\; 6:30 p.m.\; senior poster signing\; 7:30 p.m.\, football field festivities\, Athletic Park\, Beatrice Middle School\, Fourth and Ella St.&nbsp\; Students are to turn in money and unsold tickets to Beth Lineweber at BHS by August 17.
LOCATION:
UID:e.41.5042
SEQUENCE:3
DTSTAMP:20260424T135851Z
URL:https://business.beatricechamber.com/events/details/beatrice-orange-booster-club-tailgate-and-fall-kick-off-08-19-2011-5042
END:VEVENT

END:VCALENDAR
