BEGIN:VCALENDAR
VERSION:2.0
PRODID:-//ChamberMaster//Event Calendar 2.0//EN
METHOD:PUBLISH
X-PUBLISHED-TTL:P3D
REFRESH-INTERVAL:P3D
CALSCALE:GREGORIAN
BEGIN:VEVENT
DTSTART;VALUE=DATE:20100201
DTEND;VALUE=DATE:20100202
TRANSP:TRANSPARENT
X-MICROSOFT-CDO-ALLDAYEVENT:TRUE
SUMMARY:Beatrice Orange Boosters
DESCRIPTION:Beatrice Orange Boosters MeetingAgenda:  Fundraising\, sport reports\, stadium seat sales\, Pancake Man\, Orange & Black and other topics of interest.  All parents\, coaches\, and Booster members are encouraged to attend.
X-ALT-DESC;FMTTYPE=text/html:<div>Beatrice Orange Boosters Meeting</div><div>Agenda:&nbsp\; Fundraising\, sport reports\, stadium seat sales\, Pancake Man\, Orange &amp\; Black and other topics of interest.&nbsp\; All parents\, coaches\, and Booster members are encouraged to attend.</div>
LOCATION:Beatrice High School
UID:e.41.1587
SEQUENCE:3
DTSTAMP:20260425T165209Z
URL:https://business.beatricechamber.com/events/details/beatrice-orange-boosters-02-01-2010-1587
END:VEVENT

END:VCALENDAR
