BEGIN:VCALENDAR
VERSION:2.0
PRODID:-//ChamberMaster//Event Calendar 2.0//EN
METHOD:PUBLISH
X-PUBLISHED-TTL:P3D
REFRESH-INTERVAL:P3D
CALSCALE:GREGORIAN
BEGIN:VEVENT
DTSTART;VALUE=DATE:20110207
DTEND;VALUE=DATE:20110208
TRANSP:TRANSPARENT
X-MICROSOFT-CDO-ALLDAYEVENT:TRUE
SUMMARY:Beatrice Orange Boosters
DESCRIPTION:Beatrice Orange Boosters\n\n\n\nBeatrice High School Media Center\n\n7 p.m.\n\n\n\nAgenda: special requests to be voted on\, concessions\, fundraising\, Waffleman report and sport reports.  All coaches\, parents and Booster members welcome to attend.
X-ALT-DESC;FMTTYPE=text/html:Beatrice Orange Boosters<br />\n<br />\nBeatrice High School Media Center<br />\n7 p.m.<br />\n<br />\nAgenda: special requests to be voted on\, concessions\, fundraising\, Waffleman report and sport reports.&nbsp\; All coaches\, parents and Booster members welcome to attend.
LOCATION:
UID:e.41.3298
SEQUENCE:3
DTSTAMP:20260424T225442Z
URL:https://business.beatricechamber.com/events/details/beatrice-orange-boosters-02-07-2011-3298
END:VEVENT

END:VCALENDAR
