BEGIN:VCALENDAR
VERSION:2.0
PRODID:-//ChamberMaster//Event Calendar 2.0//EN
METHOD:PUBLISH
X-PUBLISHED-TTL:P3D
REFRESH-INTERVAL:P3D
CALSCALE:GREGORIAN
BEGIN:VEVENT
DTSTART:20091216T010000Z
DTEND:20091216T030000Z
X-MICROSOFT-CDO-ALLDAYEVENT:FALSE
SUMMARY:Beatrice Police Department
DESCRIPTION:an informational meeting on "Internet Crimes and Safety for Parents"Tuesday\, December 15th 7:00 pmBeatrice Public Library Program is sponsored by Beatrice Police Department and will be presented by investigator Tina Vath. The program is for families with children of all ages and will focus on how to keep your family safe on the Internet.
X-ALT-DESC;FMTTYPE=text/html:<div>an informational meeting on &quot\;Internet Crimes and Safety for Parents&quot\;</div><div>Tuesday\, December 15th 7:00 pm</div><div>Beatrice Public Library</div><div>&nbsp\;</div><div>Program is sponsored by Beatrice Police Department and will be presented by investigator Tina Vath.</div><div>&nbsp\;</div><div>The program is for families with children of all ages and will focus on how to keep your family safe on the Internet.</div>
LOCATION:
UID:e.41.1560
SEQUENCE:3
DTSTAMP:20260425T194416Z
URL:https://business.beatricechamber.com/events/details/beatrice-police-department-12-15-2009-1560
END:VEVENT

END:VCALENDAR
