BEGIN:VCALENDAR
VERSION:2.0
PRODID:-//ChamberMaster//Event Calendar 2.0//EN
METHOD:PUBLISH
X-PUBLISHED-TTL:P3D
REFRESH-INTERVAL:P3D
CALSCALE:GREGORIAN
BEGIN:VEVENT
DTSTART;VALUE=DATE:20120628
DTEND;VALUE=DATE:20120629
TRANSP:TRANSPARENT
X-MICROSOFT-CDO-ALLDAYEVENT:TRUE
SUMMARY:Beatrice Public Library Book Discussion
DESCRIPTION:The Book Discussion will take place at the Homestead National Monument's Education Center\n\nFree Land by Rose Wilder Lane\n\nThis classic frontier novel tells the story of a young couple's struggle to survive on their 300 acre Dakota grassland homestead in the 1880's. \n\nThe discussion leader will be Blake Bell\, Historian\, Homestead National Monument
X-ALT-DESC;FMTTYPE=text/html:The Book Discussion will take place at the Homestead National Monument&#39\;s Education Center<br />\nFree Land by Rose Wilder Lane<br />\nThis classic frontier novel tells the story of a young couple&#39\;s struggle to survive on their 300 acre Dakota grassland homestead in the 1880&#39\;s.&nbsp\;<br />\nThe discussion leader will be Blake Bell\, Historian\, Homestead National Monument
LOCATION:
UID:e.41.5730
SEQUENCE:3
DTSTAMP:20260422T131112Z
URL:https://business.beatricechamber.com/events/details/beatrice-public-library-book-discussion-06-28-2012-5730
END:VEVENT

END:VCALENDAR
