BEGIN:VCALENDAR
VERSION:2.0
PRODID:-//ChamberMaster//Event Calendar 2.0//EN
METHOD:PUBLISH
X-PUBLISHED-TTL:P3D
REFRESH-INTERVAL:P3D
CALSCALE:GREGORIAN
BEGIN:VEVENT
DTSTART:20120727T000000Z
DTEND:20120727T000000Z
X-MICROSOFT-CDO-ALLDAYEVENT:FALSE
SUMMARY:Beatrice Public Library Discussion
DESCRIPTION:"Dancing at the Rascal Fair" by Ivan Doig is the selection for the next book discussion at the Beatrice Public Library in the Sargent Conference Room.\n\n\n\nThe discussion leader will be Mark Metcalf\, a retired Beatrice High School English teacher.\n\n\n\nThis book is the authentic account of Scottish immigrant homesteaders living in Montana at the turn of the 20th century.\n\n\n\nIt was chosen as part of the homesteading theme used in the 2012 book discussion series cosponsored with Homestead National Monument of America in honor of the Homestead Act's 150th anniversary.\n\n\n\nFor more information contact the Library at 402-223-3584 or www.beatrice.ne.gov/library.
X-ALT-DESC;FMTTYPE=text/html:&quot\;Dancing at the Rascal Fair&quot\; by Ivan Doig is the selection for the next book discussion at the Beatrice Public Library in the Sargent Conference Room.<br />\n<br />\nThe discussion leader will be Mark Metcalf\, a retired Beatrice High School English teacher.<br />\n<br />\nThis book is the authentic account of Scottish immigrant homesteaders living in Montana at the turn of the 20th century.<br />\n<br />\nIt was chosen as part of the homesteading theme used in the 2012 book discussion series cosponsored with Homestead National Monument of America in honor of the Homestead Act&#39\;s 150th anniversary.<br />\n<br />\nFor more information contact the Library at 402-223-3584 or www.beatrice.ne.gov/library.
LOCATION:
UID:e.41.6328
SEQUENCE:3
DTSTAMP:20260422T113619Z
URL:https://business.beatricechamber.com/events/details/beatrice-public-library-discussion-07-26-2012-6328
END:VEVENT

END:VCALENDAR
