BEGIN:VCALENDAR
VERSION:2.0
PRODID:-//ChamberMaster//Event Calendar 2.0//EN
METHOD:PUBLISH
X-PUBLISHED-TTL:P3D
REFRESH-INTERVAL:P3D
CALSCALE:GREGORIAN
BEGIN:VEVENT
DTSTART;VALUE=DATE:20120726
DTEND;VALUE=DATE:20120727
TRANSP:TRANSPARENT
X-MICROSOFT-CDO-ALLDAYEVENT:TRUE
SUMMARY:Beatrice Public Library Events
DESCRIPTION:Beatrice Library Events \n\n	 \n\n	May 17 thru July 30 \n\n	Summer Reading Program: Dream Big--Read!!   \n\n	 \n\n	 \n\n	 \n\n	Tuesday\, July 10\n\n	7:00 pm An Era of Elegance - Sue McClain \n\n	 \n\n	Tuesday\, July 17\n\n	7:00 pm " Look Up" - Beatrice Photos taken by Ken Ruhnke (Cosponsored with the We Remember Beatrice Committee)\n\n	 \n\n	Tuesday\, July 24\n\n	7:00 pm Summer Gathering of the Genealogists\n\n	 \n\n	Thursday\, July 26\n\n	7:00 pm Book Discussion: Dancing at the Rascal Fair (Doig)\n\n	 \n\n	Tuesday\, July 31\n\n	7:00 pm An Introduction to Databases Carolyn Bennett
X-ALT-DESC;FMTTYPE=text/html:<p align="center" style="text-align: center\; margin: 0in 0in 0pt">\n	<b><span style="font-family: 'Arial'\, 'sans-serif'\; font-size: 11pt">&nbsp\;<u>&nbsp\;Beatrice Library Events</u>&nbsp\;<o:p></o:p></span></b></p>\n<p align="center" style="text-align: center\; margin: 0in 0in 0pt">\n	<b><span style="font-family: 'Arial'\, 'sans-serif'\; font-size: 8pt">&nbsp\;<o:p></o:p></span></b></p>\n<p align="center" style="text-align: center\; margin: 0in 0in 0pt">\n	<b><span style="font-family: 'Arial'\, 'sans-serif'\; font-size: 9pt">May 17 thru July 30 </span></b><b><span style="font-family: 'Arial'\, 'sans-serif'\; font-size: 8pt"><o:p></o:p></span></b></p>\n<p align="center" style="text-align: center\; margin: 0in 0in 0pt">\n	<b><span style="font-family: 'Arial'\, 'sans-serif'\; font-size: 9pt">Summer Reading Program: Dream Big--Read!!&nbsp\;</span></b><b><span style="font-family: 'Arial'\, 'sans-serif'\; font-size: 8pt">&nbsp\;</span></b><b><span style="font-family: 'Arial'\, 'sans-serif'\; font-size: 9pt">&nbsp\;</span></b><b><span style="font-family: 'Arial'\, 'sans-serif'\; font-size: 8pt"><o:p></o:p></span></b></p>\n<p align="center" style="text-align: center\; margin: 0in 0in 0pt">\n	<b><span style="font-family: 'Arial'\, 'sans-serif'\; font-size: 8pt">&nbsp\;<o:p></o:p></span></b></p>\n<p align="center" style="text-align: center\; margin: 0in 0in 0pt">\n	<b><span style="font-family: 'Arial'\, 'sans-serif'\; font-size: 8pt">&nbsp\;<o:p></o:p></span></b></p>\n<p align="center" style="text-align: center\; margin: 0in 0in 0pt">\n	<b><span style="font-family: 'Arial'\, 'sans-serif'\; font-size: 9pt">&nbsp\;</span></b><b><span style="font-family: 'Arial'\, 'sans-serif'\; font-size: 8pt"><o:p></o:p></span></b></p>\n<p align="center" style="text-align: center\; margin: 0in 0in 0pt">\n	<b><span style="font-family: 'Arial'\, 'sans-serif'\; font-size: 9pt">Tuesday\, July 10</span></b><b><span style="font-family: 'Arial'\, 'sans-serif'\; font-size: 8pt"><o:p></o:p></span></b></p>\n<p align="center" style="text-align: center\; margin: 0in 0in 0pt">\n	<b><span style="font-family: 'Arial'\, 'sans-serif'\; font-size: 9pt">7:00 pm An&nbsp\;Era of Elegance - Sue McClain&nbsp\;</span></b><b><span style="font-family: 'Arial'\, 'sans-serif'\; font-size: 8pt"><o:p></o:p></span></b></p>\n<p align="center" style="text-align: center\; margin: 0in 0in 0pt">\n	<b><span style="font-family: 'Arial'\, 'sans-serif'\; font-size: 9pt">&nbsp\;</span></b><b><span style="font-family: 'Arial'\, 'sans-serif'\; font-size: 8pt"><o:p></o:p></span></b></p>\n<p align="center" style="text-align: center\; margin: 0in 0in 0pt">\n	<b><span style="font-family: 'Arial'\, 'sans-serif'\; font-size: 9pt">Tuesday\, July 17</span></b><b><span style="font-family: 'Arial'\, 'sans-serif'\; font-size: 8pt"><o:p></o:p></span></b></p>\n<p align="center" style="text-align: center\; margin: 0in 0in 0pt">\n	<b><span style="font-family: 'Arial'\, 'sans-serif'\; font-size: 9pt">7:00 pm &quot\; Look Up&quot\; - Beatrice Photos taken by Ken Ruhnke (Cosponsored with the We Remember Beatrice Committee)</span></b><b><span style="font-family: 'Arial'\, 'sans-serif'\; font-size: 8pt"><o:p></o:p></span></b></p>\n<p align="center" style="text-align: center\; margin: 0in 0in 0pt">\n	<b><span style="font-family: 'Arial'\, 'sans-serif'\; font-size: 9pt">&nbsp\;</span></b><b><span style="font-family: 'Arial'\, 'sans-serif'\; font-size: 8pt"><o:p></o:p></span></b></p>\n<p align="center" style="text-align: center\; margin: 0in 0in 0pt">\n	<b><span style="font-family: 'Arial'\, 'sans-serif'\; font-size: 9pt">Tuesday\, July 24</span></b><b><span style="font-family: 'Arial'\, 'sans-serif'\; font-size: 8pt"><o:p></o:p></span></b></p>\n<p align="center" style="text-align: center\; margin: 0in 0in 0pt">\n	<b><span style="font-family: 'Arial'\, 'sans-serif'\; font-size: 9pt">7:00 pm Summer Gathering of the Genealogists</span></b><b><span style="font-family: 'Arial'\, 'sans-serif'\; font-size: 8pt"><o:p></o:p></span></b></p>\n<p align="center" style="text-align: center\; margin: 0in 0in 0pt">\n	<b><span style="font-family: 'Arial'\, 'sans-serif'\; font-size: 9pt">&nbsp\;</span></b><b><span style="font-family: 'Arial'\, 'sans-serif'\; font-size: 8pt"><o:p></o:p></span></b></p>\n<p align="center" style="text-align: center\; margin: 0in 0in 0pt">\n	<b><span style="font-family: 'Arial'\, 'sans-serif'\; font-size: 9pt">Thursday\, July 26</span></b><b><span style="font-family: 'Arial'\, 'sans-serif'\; font-size: 8pt"><o:p></o:p></span></b></p>\n<p align="center" style="text-align: center\; margin: 0in 0in 0pt">\n	<b><span style="font-family: 'Arial'\, 'sans-serif'\; font-size: 9pt">7:00 pm Book Discussion: Dancing at the Rascal Fair (Doig)</span></b><b><span style="font-family: 'Arial'\, 'sans-serif'\; font-size: 8pt"><o:p></o:p></span></b></p>\n<p align="center" style="text-align: center\; margin: 0in 0in 0pt">\n	<b><span style="font-family: 'Arial'\, 'sans-serif'\; font-size: 9pt">&nbsp\;</span></b><b><span style="font-family: 'Arial'\, 'sans-serif'\; font-size: 8pt"><o:p></o:p></span></b></p>\n<p align="center" style="text-align: center\; margin: 0in 0in 0pt">\n	<b><span style="font-family: 'Arial'\, 'sans-serif'\; font-size: 9pt">Tuesday\, July 31</span></b><b><span style="font-family: 'Arial'\, 'sans-serif'\; font-size: 8pt"><o:p></o:p></span></b></p>\n<p align="center" style="text-align: center\; margin: 0in 0in 0pt">\n	<b><span style="font-family: 'Arial'\, 'sans-serif'\; font-size: 9pt">7:00 pm An Introduction to Databases Carolyn Bennett<span style="display: none">&nbsp\;</span></span></b><b><span style="font-family: 'Arial'\, 'sans-serif'\; font-size: 8pt"><o:p></o:p></span></b></p>\n
LOCATION:
UID:e.41.6312
SEQUENCE:3
DTSTAMP:20260422T113654Z
URL:https://business.beatricechamber.com/events/details/beatrice-public-library-events-07-26-2012-6312
END:VEVENT

END:VCALENDAR
