BEGIN:VCALENDAR
VERSION:2.0
PRODID:-//ChamberMaster//Event Calendar 2.0//EN
METHOD:PUBLISH
X-PUBLISHED-TTL:P3D
REFRESH-INTERVAL:P3D
CALSCALE:GREGORIAN
BEGIN:VEVENT
DTSTART;VALUE=DATE:20110328
DTEND;VALUE=DATE:20110329
TRANSP:TRANSPARENT
X-MICROSOFT-CDO-ALLDAYEVENT:TRUE
SUMMARY:Beatrice Radio History at Beatrice Senior Center
DESCRIPTION:Beatrice Radio History at Beatrice Senior Center\n\n\n\nBill Boyce will speak\n\n\n\nMonday\, March 28\n\n5:30 pm\n\n\n\nBeatrice Senior Center\n\n101 N 25th Street\n\nBeatrice\n\n\n\nCall (402)223-1357 for reservations by 9 am that day.
X-ALT-DESC;FMTTYPE=text/html:Beatrice Radio History at Beatrice Senior Center<br />\n<br />\nBill Boyce will speak<br />\n<br />\nMonday\, March 28<br />\n5:30 pm<br />\n<br />\nBeatrice Senior Center<br />\n101 N 25th Street<br />\nBeatrice<br />\n<br />\nCall (402)223-1357 for reservations by 9 am that day.
LOCATION:
UID:e.41.4256
SEQUENCE:3
DTSTAMP:20260424T213053Z
URL:https://business.beatricechamber.com/events/details/beatrice-radio-history-at-beatrice-senior-center-03-28-2011-4256
END:VEVENT

END:VCALENDAR
