BEGIN:VCALENDAR
VERSION:2.0
PRODID:-//ChamberMaster//Event Calendar 2.0//EN
METHOD:PUBLISH
X-PUBLISHED-TTL:P3D
REFRESH-INTERVAL:P3D
CALSCALE:GREGORIAN
BEGIN:VEVENT
DTSTART:20091018T200000Z
DTEND:20091018T210000Z
X-MICROSOFT-CDO-ALLDAYEVENT:FALSE
SUMMARY:Beatrice Regional Orchestra
DESCRIPTION:Free Family Concert featuringBeatrice Regional OrchestraSunday\, October 18\, 2009The Hevelone Centerat Beatrice High School\, 600 Orange BlvdBegins at 3:00 pm The performance will include spooky seasonal classics\, jazz and other music for children of all ages.
X-ALT-DESC;FMTTYPE=text/html:<div>Free Family Concert featuring</div><div>Beatrice Regional Orchestra</div><div>Sunday\, October 18\, 2009</div><div>The Hevelone Center</div><div>at Beatrice High School\, 600 Orange Blvd</div><div>Begins at 3:00 pm</div><div>&nbsp\;</div><div>The performance will include spooky seasonal classics\, jazz and other music for children of all ages.&nbsp\;</div>
LOCATION:
UID:e.41.1481
SEQUENCE:3
DTSTAMP:20260425T221942Z
URL:https://business.beatricechamber.com/events/details/beatrice-regional-orchestra-10-18-2009-1481
END:VEVENT

END:VCALENDAR
