BEGIN:VCALENDAR
VERSION:2.0
PRODID:-//ChamberMaster//Event Calendar 2.0//EN
METHOD:PUBLISH
X-PUBLISHED-TTL:P3D
REFRESH-INTERVAL:P3D
CALSCALE:GREGORIAN
BEGIN:VEVENT
DTSTART;VALUE=DATE:20100525
DTEND;VALUE=DATE:20100526
TRANSP:TRANSPARENT
X-MICROSOFT-CDO-ALLDAYEVENT:TRUE
SUMMARY:Beatrice Regional Orchestra Concert 5/25/2010
DESCRIPTION:Beatrice Regional Orchestra Concert"A Celebration of America"Final concert of the season. Tuesday\, May 257 - 8:30 p.m.Hevelone Center\, Beatrice High School Admission:General: $5Seniors: $3Students:$2 Made possible by grant provided by Hevelone Foundation.
X-ALT-DESC;FMTTYPE=text/html:<div><span style="font-size: medium">Beatrice Regional&nbsp\;Orchestra Concert</span></div><div><span style="font-size: medium">&quot\;A Celebration of America&quot\;</span></div><div><span style="font-size: medium">Final concert of the season.</span></div><div>&nbsp\;</div><div><span style="font-size: medium">Tuesday\, May 25</span></div><div><span style="font-size: medium">7 - 8:30 p.m.</span></div><div><span style="font-size: medium">Hevelone Center\, Beatrice High School</span></div><div>&nbsp\;</div><div>Admission:</div><div>General: $5</div><div>Seniors: $3</div><div>Students:$2</div><div>&nbsp\;</div><div><em>Made possible by grant provided by Hevelone Foundation.</em></div><div>&nbsp\;</div><div>&nbsp\;</div><div>&nbsp\;</div>
LOCATION:
UID:e.41.1989
SEQUENCE:3
DTSTAMP:20260425T123319Z
URL:https://business.beatricechamber.com/events/details/beatrice-regional-orchestra-concert-5-25-2010-05-25-2010-1989
END:VEVENT

END:VCALENDAR
