BEGIN:VCALENDAR
VERSION:2.0
PRODID:-//ChamberMaster//Event Calendar 2.0//EN
METHOD:PUBLISH
X-PUBLISHED-TTL:P3D
REFRESH-INTERVAL:P3D
CALSCALE:GREGORIAN
BEGIN:VEVENT
DTSTART;VALUE=DATE:20111015
DTEND;VALUE=DATE:20111016
TRANSP:TRANSPARENT
X-MICROSOFT-CDO-ALLDAYEVENT:TRUE
SUMMARY:Beatrice Regional Orchestra "La musique de jour"
DESCRIPTION:"La musique de jour" - Beatrice Regional Orchestra first concert of the 2011-2012 season\n\n\n\nSaturday\, October 15\n\n2 pm\n\n\n\nHevelone Center for Performing Arts at the Beatrice High School\n\n\n\nConcert of music by French composers or music that was inspired by France.  Also featuring local pianist April Barnes.  Tickets at the door.  General admission: $5\; seniors $3\; and students $2.
X-ALT-DESC;FMTTYPE=text/html:<strong>&quot\;La musique de jour&quot\; - Beatrice Regional Orchestra first concert of the 2011-2012 season</strong><br />\n<br />\nSaturday\, October 15<br />\n2 pm<br />\n<br />\nHevelone Center for Performing Arts at the Beatrice High School<br />\n<br />\nConcert of music by French composers or music that was inspired by France.&nbsp\; Also featuring local pianist April Barnes.&nbsp\; Tickets at the door.&nbsp\; General admission: $5\; seniors $3\; and students $2.
LOCATION:
UID:e.41.5182
SEQUENCE:3
DTSTAMP:20260424T111809Z
URL:https://business.beatricechamber.com/events/details/beatrice-regional-orchestra-la-musique-de-jour-10-15-2011-5182
END:VEVENT

END:VCALENDAR
