BEGIN:VCALENDAR
VERSION:2.0
PRODID:-//ChamberMaster//Event Calendar 2.0//EN
METHOD:PUBLISH
X-PUBLISHED-TTL:P3D
REFRESH-INTERVAL:P3D
CALSCALE:GREGORIAN
BEGIN:VEVENT
DTSTART;VALUE=DATE:20110923
DTEND;VALUE=DATE:20110924
TRANSP:TRANSPARENT
X-MICROSOFT-CDO-ALLDAYEVENT:TRUE
SUMMARY:Beatrice Rotary BBQ
DESCRIPTION:Annual Beatrice Rotary BBQ\n\n\n\nBeatrice Middle School Cafeteria\n\n215 N 5th Street\, Beatrice\, NE\n\n\n\nFriday\, September 23rd\n\nBefore the Gretna vs. Beatrice\n\nHOMECOMING FOOTBALL GAME\n\n\n\nBurger or Brat from C&C Processing\, Beans\, Potato Salad\, Cookie & Drink\n\n$6 Adults\, $4 Children (12 & Under)\n\nTickets available at door or contact any Rotary Member or call Rob Schafer at 402-228-3443\n\n\n\nProceeds go to Beatrice Rotary Scholarship Fund
X-ALT-DESC;FMTTYPE=text/html:Annual Beatrice Rotary BBQ<br />\n<br />\nBeatrice Middle School Cafeteria<br />\n215 N 5th Street\, Beatrice\, NE<br />\n<br />\nFriday\, September 23rd<br />\nBefore the Gretna vs. Beatrice<br />\nHOMECOMING FOOTBALL GAME<br />\n<br />\nBurger or Brat from C&amp\;C Processing\, Beans\, Potato Salad\, Cookie &amp\; Drink<br />\n$6 Adults\, $4 Children (12 &amp\; Under)<br />\nTickets available at door or contact any Rotary Member or call Rob Schafer at 402-228-3443<br />\n<br />\nProceeds go to Beatrice Rotary Scholarship Fund
LOCATION:
UID:e.41.5111
SEQUENCE:3
DTSTAMP:20260424T122839Z
URL:https://business.beatricechamber.com/events/details/beatrice-rotary-bbq-09-23-2011-5111
END:VEVENT

END:VCALENDAR
