BEGIN:VCALENDAR
VERSION:2.0
PRODID:-//ChamberMaster//Event Calendar 2.0//EN
METHOD:PUBLISH
X-PUBLISHED-TTL:P3D
REFRESH-INTERVAL:P3D
CALSCALE:GREGORIAN
BEGIN:VEVENT
DTSTART;VALUE=DATE:20110310
DTEND;VALUE=DATE:20110311
TRANSP:TRANSPARENT
X-MICROSOFT-CDO-ALLDAYEVENT:TRUE
SUMMARY:Beatrice Senior Center
DESCRIPTION:5:30 p.m. - evening meal\, 101 N. 25th  St.\, Beatrice.\n\n6:15 p.m. - entertainment by the Lincoln Irish Dancers.\n\n\n\nCall 402-223-1357 for reservations the day prior.
X-ALT-DESC;FMTTYPE=text/html:<strong>5:30 p.m. - </strong>evening meal\, 101 N. 25th&nbsp\; St.\, Beatrice.<br />\n<strong>6:15 p.m. - </strong>entertainment by the Lincoln Irish Dancers.<br />\n<br />\nCall 402-223-1357 for reservations the day prior.
LOCATION:
UID:e.41.4228
SEQUENCE:3
DTSTAMP:20260424T211832Z
URL:https://business.beatricechamber.com/events/details/beatrice-senior-center-03-10-2011-4228
END:VEVENT

END:VCALENDAR
