BEGIN:VCALENDAR
VERSION:2.0
PRODID:-//ChamberMaster//Event Calendar 2.0//EN
METHOD:PUBLISH
X-PUBLISHED-TTL:P3D
REFRESH-INTERVAL:P3D
CALSCALE:GREGORIAN
BEGIN:VEVENT
DTSTART:20100628T223000Z
DTEND:20100629T000000Z
X-MICROSOFT-CDO-ALLDAYEVENT:FALSE
SUMMARY:Beatrice Senior Center
DESCRIPTION:5:30 p.m. meal. Entertainment by the Rev. Jimmy Shelbourn. For more information call 402-223-1357
X-ALT-DESC;FMTTYPE=text/html:<div>5:30 p.m. meal. Entertainment by the Rev. Jimmy Shelbourn. For more information call 402-223-1357</div>
LOCATION:Beatrice Senior Center
UID:e.41.2037
SEQUENCE:3
DTSTAMP:20260425T105452Z
URL:https://business.beatricechamber.com/events/details/beatrice-senior-center-06-28-2010-2037
END:VEVENT

END:VCALENDAR
