BEGIN:VCALENDAR
VERSION:2.0
PRODID:-//ChamberMaster//Event Calendar 2.0//EN
METHOD:PUBLISH
X-PUBLISHED-TTL:P3D
REFRESH-INTERVAL:P3D
CALSCALE:GREGORIAN
BEGIN:VEVENT
DTSTART;VALUE=DATE:20101213
DTEND;VALUE=DATE:20101215
TRANSP:TRANSPARENT
X-MICROSOFT-CDO-ALLDAYEVENT:TRUE
SUMMARY:Beatrice Senior Singers Christmas Performance
DESCRIPTION:Beatrice Seniors Christmas performance schedule:\n\n\n\nWednesday\, Dec 8- 11:15 a.m.\, Beatrice Senior Center\n\n\n\nThursday\, Dec. 9- 2 p.m.\, The Villa at Flowing Springs\, 2211 Sunset Drive\n\n\n\nMonday\, Dec. 13- 2 p.m.\, Samaritan Springs\, 600 S. 22nd\n\n\n\nTuesday\, Dec. 14- 2 p.m.\, Beatrice Manor\, 1800 Irving\n\n\n\nWednesday\, Dec. 15- 2:15 p.m.\, Homestead House\, 2300 Lincoln St.\n\n\n\nMonday\, Dec. 20- 1 p.m.\, Homestead Village\, 1119 Monroe\; and 2:30 p.m. at Good Samaritan Center\, 1306 S. Ninth St.\n\n\n\nWednesday\, Dec. 22- 2p.m.\, The Kensington\, Sith and Court\n\n\n\nSinger members are reminded to get their Christmas books. New vocalists are welcome. For more information\, contact director Donna Miller at 228-2039.
X-ALT-DESC;FMTTYPE=text/html:<strong><span style="font-size: 14px">Beatrice Seniors Christmas performance schedule:</span></strong><br />\n<br />\nWednesday\, Dec 8- 11:15 a.m.\, Beatrice Senior Center<br />\n<br />\nThursday\, Dec. 9- 2 p.m.\, The Villa at Flowing Springs\, 2211 Sunset Drive<br />\n<br />\nMonday\, Dec. 13- 2 p.m.\, Samaritan Springs\, 600 S. 22nd<br />\n<br />\nTuesday\, Dec. 14- 2 p.m.\, Beatrice Manor\, 1800 Irving<br />\n<br />\nWednesday\, Dec. 15- 2:15 p.m.\, Homestead House\, 2300 Lincoln St.<br />\n<br />\nMonday\, Dec. 20- 1 p.m.\, Homestead Village\, 1119 Monroe\; and 2:30 p.m. at Good Samaritan Center\, 1306 S. Ninth St.<br />\n<br />\nWednesday\, Dec. 22- 2p.m.\, The Kensington\, Sith and Court<br />\n<br />\nSinger members are reminded to get their Christmas books. New vocalists are welcome. For more information\, contact director Donna Miller at 228-2039.<br />\n<br />\n&nbsp\;
LOCATION:
UID:e.41.2814
SEQUENCE:3
DTSTAMP:20260425T015115Z
URL:https://business.beatricechamber.com/events/details/beatrice-senior-singers-christmas-performance-12-13-2010-2814
END:VEVENT

END:VCALENDAR
