BEGIN:VCALENDAR
VERSION:2.0
PRODID:-//ChamberMaster//Event Calendar 2.0//EN
METHOD:PUBLISH
X-PUBLISHED-TTL:P3D
REFRESH-INTERVAL:P3D
CALSCALE:GREGORIAN
BEGIN:VEVENT
DTSTART;VALUE=DATE:20101115
DTEND;VALUE=DATE:20101116
TRANSP:TRANSPARENT
X-MICROSOFT-CDO-ALLDAYEVENT:TRUE
SUMMARY:Beatrice Senior Singers Christmas Rehearsals
DESCRIPTION:Beatrice Senior Singers to begin Christmas Reehearsals:\n\n\n\nRehearsals at the Beatrice Senior Center\, 101 N. 25th St.\n\n\n\nRehearsal dates are the following Mondays:\n\n\n\nNov. 15\, Nov. 23\, Nov. 23\, Nov. 29\, Dec. 6- All Rehearsals begin at 4:15 p.m.
X-ALT-DESC;FMTTYPE=text/html:<strong><span style="font-size: 14px">Beatrice Senior Singers to begin Christmas Reehearsals:</span></strong><br />\n<br />\nRehearsals at the Beatrice Senior Center\, 101 N. 25th St.<br />\n<br />\nRehearsal dates are the following Mondays:<br />\n<br />\nNov. 15\, Nov. 23\, Nov. 23\, Nov. 29\, Dec. 6- All Rehearsals begin at 4:15 p.m.
LOCATION:
UID:e.41.2812
SEQUENCE:3
DTSTAMP:20260425T033039Z
URL:https://business.beatricechamber.com/events/details/beatrice-senior-singers-christmas-rehearsals-11-15-2010-2812
END:VEVENT

END:VCALENDAR
