BEGIN:VCALENDAR
VERSION:2.0
PRODID:-//ChamberMaster//Event Calendar 2.0//EN
METHOD:PUBLISH
X-PUBLISHED-TTL:P3D
REFRESH-INTERVAL:P3D
CALSCALE:GREGORIAN
BEGIN:VEVENT
DTSTART;VALUE=DATE:20120205
DTEND;VALUE=DATE:20120206
TRANSP:TRANSPARENT
X-MICROSOFT-CDO-ALLDAYEVENT:TRUE
SUMMARY:Beatrice Singles "Singles Dance"
DESCRIPTION:"Singles Dance"\n\n	hosted by The Beatrice Singles\n\n	\n\n	Sunday\, February 5\n\n	6:30 - 10 pm\n\n	\n\n	Aunt Mary's Center\n\n	Beatrice\, NE\n\n	\n\n	Admission is $6. \n\n	\n\n	The Hanner Combo will be the featured performer.  All are welcome.
X-ALT-DESC;FMTTYPE=text/html:<p>\n	&quot\;Singles Dance&quot\;<br />\n	hosted by The Beatrice Singles<br />\n	<br />\n	Sunday\, February 5<br />\n	6:30 - 10 pm<br />\n	<br />\n	Aunt Mary&#39\;s Center<br />\n	Beatrice\, NE<br />\n	<br />\n	Admission is $6.&nbsp\;<br />\n	<br />\n	The Hanner Combo will be the featured performer.&nbsp\; All are welcome.</p>\n
LOCATION:
UID:e.41.5303
SEQUENCE:3
DTSTAMP:20260422T185319Z
URL:https://business.beatricechamber.com/events/details/beatrice-singles-singles-dance-02-05-2012-5303
END:VEVENT

END:VCALENDAR
