BEGIN:VCALENDAR
VERSION:2.0
PRODID:-//ChamberMaster//Event Calendar 2.0//EN
METHOD:PUBLISH
X-PUBLISHED-TTL:P3D
REFRESH-INTERVAL:P3D
CALSCALE:GREGORIAN
BEGIN:VEVENT
DTSTART;VALUE=DATE:20110617
DTEND;VALUE=DATE:20110618
TRANSP:TRANSPARENT
X-MICROSOFT-CDO-ALLDAYEVENT:TRUE
SUMMARY:Beatrice Speedway Races
DESCRIPTION:Starts at 7:30 p.m. at the Gage County Fairgrounds.  Hot laps at 7 p.m.\n\n\n\nFor more information:  www.beatricespeedway.com
X-ALT-DESC;FMTTYPE=text/html:Starts at 7:30 p.m. at the Gage County Fairgrounds.&nbsp\; Hot laps at 7 p.m.<br />\n<br />\nFor more information:&nbsp\; <a href="http://www.beatricespeedway.com">www.beatricespeedway.com</a>
LOCATION:
UID:e.41.4889
SEQUENCE:3
DTSTAMP:20260424T165609Z
URL:https://business.beatricechamber.com/events/details/beatrice-speedway-races-06-17-2011-4889
END:VEVENT

END:VCALENDAR
