BEGIN:VCALENDAR
VERSION:2.0
PRODID:-//ChamberMaster//Event Calendar 2.0//EN
METHOD:PUBLISH
X-PUBLISHED-TTL:P3D
REFRESH-INTERVAL:P3D
CALSCALE:GREGORIAN
BEGIN:VEVENT
DTSTART;VALUE=DATE:20110715
DTEND;VALUE=DATE:20110716
TRANSP:TRANSPARENT
X-MICROSOFT-CDO-ALLDAYEVENT:TRUE
SUMMARY:Beatrice Speedway Races
DESCRIPTION:Enjoy a night with Beatrice Speedway Races!\n\n\n\nPit Gates Open at 5:30 pm\n\nHot Laps start at 7:00 pm\n\nRacing at 7:30 pm\n\n\n\nFor points standings and more information\, visit www.beatricespeedway.com
X-ALT-DESC;FMTTYPE=text/html:Enjoy a night with Beatrice Speedway Races!<br />\n<br />\nPit Gates Open at 5:30 pm<br />\nHot Laps start at 7:00 pm<br />\nRacing at 7:30 pm<br />\n<br />\nFor points standings and more information\, visit <a href="http://www.beatricespeedway.com">www.beatricespeedway.com</a><br />\n<br />\n
LOCATION:Gage County Fairgrounds Beatrice\, NE
UID:e.41.4613
SEQUENCE:3
DTSTAMP:20260424T153041Z
URL:https://business.beatricechamber.com/events/details/beatrice-speedway-races-07-15-2011-4613
END:VEVENT

END:VCALENDAR
