BEGIN:VCALENDAR
VERSION:2.0
PRODID:-//ChamberMaster//Event Calendar 2.0//EN
METHOD:PUBLISH
X-PUBLISHED-TTL:P3D
REFRESH-INTERVAL:P3D
CALSCALE:GREGORIAN
BEGIN:VEVENT
DTSTART;VALUE=DATE:20120824
DTEND;VALUE=DATE:20120825
TRANSP:TRANSPARENT
X-MICROSOFT-CDO-ALLDAYEVENT:TRUE
SUMMARY:Beatrice Speedway Races
DESCRIPTION:Beatrice Speedway Races\n\nFull schedule & details at www.beatricespeedway.com\n\n\n\nFOR ALL RACES UNLESS OTHERWISE SPECIFIED\n\nGates open at 5:30 pm\n\nHot Laps at 7:00 pm\n\nRacing Starts at 7:30 pm\n\n	Adult Admission: $10.00\n\n	Youth 6-11: $5.00\n\n	Youth 5 and under: FREE\n\n	Pit Pass: $20.00
X-ALT-DESC;FMTTYPE=text/html:<strong>Beatrice Speedway Races</strong><br />\n<strong><span style="text-decoration: underline">Full schedule &amp\; details at <a href="http://www.beatricespeedway.com">www.beatricespeedway.com</a><br />\n<br />\nFOR ALL RACES UNLESS OTHERWISE SPECIFIED</span></strong><br />\n<strong>Gates open at 5:30 pm</strong><br />\n<strong>Hot Laps at 7:00 pm</strong><br />\n<strong>Racing Starts at 7:30 pm</strong>\n<p style="text-align: left">\n	<strong>Adult Admission: $10.00</strong><br />\n	<strong>Youth 6-11: $5.00</strong><br />\n	<strong>Youth 5 and under: FREE</strong><br />\n	<strong>Pit Pass: $20.00</strong></p>\n
LOCATION:
UID:e.41.5972
SEQUENCE:3
DTSTAMP:20260422T100422Z
URL:https://business.beatricechamber.com/events/details/beatrice-speedway-races-08-24-2012-5972
END:VEVENT

END:VCALENDAR
