BEGIN:VCALENDAR
VERSION:2.0
PRODID:-//ChamberMaster//Event Calendar 2.0//EN
METHOD:PUBLISH
X-PUBLISHED-TTL:P3D
REFRESH-INTERVAL:P3D
CALSCALE:GREGORIAN
BEGIN:VEVENT
DTSTART:20090704T003000Z
DTEND:20090703T170000Z
X-MICROSOFT-CDO-ALLDAYEVENT:FALSE
SUMMARY:Beatrice Speedway Racing - Fireworks after Racing!
DESCRIPTION:Hot Laps at 6:45 pmRacing at 7:30 pm
X-ALT-DESC;FMTTYPE=text/html:<div>Hot Laps at 6:45 pm</div><div>Racing at 7:30 pm</div>
LOCATION:Gage County Fairgrounds
UID:e.41.1133
SEQUENCE:3
DTSTAMP:20260426T030219Z
URL:https://business.beatricechamber.com/events/details/beatrice-speedway-racing-fireworks-after-racing-07-03-2009-1133
END:VEVENT

END:VCALENDAR
