BEGIN:VCALENDAR
VERSION:2.0
PRODID:-//ChamberMaster//Event Calendar 2.0//EN
METHOD:PUBLISH
X-PUBLISHED-TTL:P3D
REFRESH-INTERVAL:P3D
CALSCALE:GREGORIAN
BEGIN:VEVENT
DTSTART:20110801T200000Z
DTEND:20110801T233000Z
X-MICROSOFT-CDO-ALLDAYEVENT:FALSE
SUMMARY:Beatrice Venture Crew Blood Drive at St. John's Church
DESCRIPTION:Blood Drive at St. John's Church.  Raise funds for your local emergency response team!  To make an appointment\, contact Tonya Minor at 402-230-0505 or visit www.ncbb.org.  Walk-ins are welcome.
X-ALT-DESC;FMTTYPE=text/html:<p>\n	Blood Drive at St. John&#39\;s Church.&nbsp\; Raise funds for your local emergency response team!&nbsp\; To make an appointment\, contact Tonya Minor at 402-230-0505 or visit <a href="http://www.ncbb.org">www.ncbb.org</a>.&nbsp\; Walk-ins are welcome.</p>\n
LOCATION:
UID:e.41.4949
SEQUENCE:3
DTSTAMP:20260424T140954Z
URL:https://business.beatricechamber.com/events/details/beatrice-venture-crew-blood-drive-at-st-john-s-church-08-01-2011-4949
END:VEVENT

END:VCALENDAR
