BEGIN:VCALENDAR
VERSION:2.0
PRODID:-//ChamberMaster//Event Calendar 2.0//EN
METHOD:PUBLISH
X-PUBLISHED-TTL:P3D
REFRESH-INTERVAL:P3D
CALSCALE:GREGORIAN
BEGIN:VEVENT
DTSTART:20101116T190000Z
DTEND:20101117T023000Z
X-MICROSOFT-CDO-ALLDAYEVENT:FALSE
SUMMARY:Beatrice WIC Clinic
DESCRIPTION:Beatrice WIC Clinic:\n\n\n\n1:00 p.m. - 8:30 p.m.\, Beatrice Menonite Church\, 1220 Sumit St. Supplemental nutrition program for pregnant women\, and infants and children under the age of 5. Guidance and food vouchers available at no cost to low and middle-income women\, infants and children.\n\n\n\nAppointments required. 402-335-2988 or 877-691-8381.
X-ALT-DESC;FMTTYPE=text/html:<strong><span style="font-size: 14px">Beatrice WIC Clinic:</span></strong><br />\n<br />\n1:00 p.m. - 8:30 p.m.\, Beatrice Menonite Church\, 1220 Sumit St. Supplemental nutrition program for pregnant women\, and infants and children under the age of 5. Guidance and food vouchers available at no cost to low and middle-income women\, infants and children.<br />\n<br />\nAppointments required. 402-335-2988 or 877-691-8381.
LOCATION:
UID:e.41.2833
SEQUENCE:3
DTSTAMP:20260425T032647Z
URL:https://business.beatricechamber.com/events/details/beatrice-wic-clinic-11-16-2010-2833
END:VEVENT

END:VCALENDAR
