BEGIN:VCALENDAR
VERSION:2.0
PRODID:-//ChamberMaster//Event Calendar 2.0//EN
METHOD:PUBLISH
X-PUBLISHED-TTL:P3D
REFRESH-INTERVAL:P3D
CALSCALE:GREGORIAN
BEGIN:VEVENT
DTSTART:20120225T140000Z
DTEND:20120226T030000Z
X-MICROSOFT-CDO-ALLDAYEVENT:FALSE
SUMMARY:Beatrice Youth Basketball Tournament
DESCRIPTION:4th thru 8th grade boys and girls 6th annual basketball tournament sponsored by Beatrice Area Chamber of Commerce and Gage County Tourism held one day only on Saturday\, Febr 25. Follow the link at www.beatricechamber.com to register. Jan 31 is the early bird deadline to receive the discounted fee.
X-ALT-DESC;FMTTYPE=text/html:4th thru 8th grade boys and girls 6th annual basketball&nbsp\;tournament sponsored by Beatrice Area Chamber of Commerce and Gage County Tourism held one day only on Saturday\, Febr 25. Follow the link at <a href="http://www.beatricechamber.com">www.beatricechamber.com</a> to register. Jan 31 is the early bird deadline to receive the discounted fee.
LOCATION:Beatrice\, Ne
UID:e.41.5240
SEQUENCE:3
DTSTAMP:20260422T185814Z
URL:https://business.beatricechamber.com/events/details/beatrice-youth-basketball-tournament-02-25-2012-5240
END:VEVENT

END:VCALENDAR
