BEGIN:VCALENDAR
VERSION:2.0
PRODID:-//ChamberMaster//Event Calendar 2.0//EN
METHOD:PUBLISH
X-PUBLISHED-TTL:P3D
REFRESH-INTERVAL:P3D
CALSCALE:GREGORIAN
BEGIN:VEVENT
DTSTART:20100630T003000Z
DTEND:20100630T013000Z
X-MICROSOFT-CDO-ALLDAYEVENT:FALSE
SUMMARY:Become the Person Your Dog Thinks You Are - Building Assets
DESCRIPTION:Dianne Swanson\, Sondra Germer and Christina Lyons will be presenting information on the 40 Developmental Assets.  What are assets?  Why are developing assets so important for our youth and our community?  How are they developed?  Finally\, we will be spending some time on how EVERYONE can play a role in building a strong\, healthy community.
X-ALT-DESC;FMTTYPE=text/html:Dianne Swanson\, Sondra Germer and Christina Lyons will be presenting information on the 40 Developmental Assets.  What are assets?  Why are developing assets so important for our youth and our community?  How are they developed?  Finally\, we will be spending some time on how EVERYONE can play a role in building a strong\, healthy community.
LOCATION:Beatrice Public Library
UID:e.41.2033
SEQUENCE:3
DTSTAMP:20260425T105841Z
URL:https://business.beatricechamber.com/events/details/become-the-person-your-dog-thinks-you-are-building-assets-06-29-2010-2033
END:VEVENT

END:VCALENDAR
