BEGIN:VCALENDAR
VERSION:2.0
PRODID:-//ChamberMaster//Event Calendar 2.0//EN
METHOD:PUBLISH
X-PUBLISHED-TTL:P3D
REFRESH-INTERVAL:P3D
CALSCALE:GREGORIAN
BEGIN:VEVENT
DTSTART:20101006T233000Z
DTEND:20101104T010000Z
X-MICROSOFT-CDO-ALLDAYEVENT:FALSE
SUMMARY:Beginning Ballroom Dance
DESCRIPTION:So you want to ballroom dance? The good news is it's easier than you think. This class is appropriate for persons with little or no dance experience. No partner needed. Bring your two left feet and learn how to put them into motion on the dance floor.\n\nClass is held at Reflections of the Soul Dance Studio\, 118 N 7th Street.\n\nPre-Registration is Required.  Call Kelly Morgan to register at 228-8244
X-ALT-DESC;FMTTYPE=text/html:So you want to ballroom dance? The good news is it's easier than you think. This class is appropriate for persons with little or no dance experience. No partner needed. Bring your two left feet and learn how to put them into motion on the dance floor.\n<br>Class is held at Reflections of the Soul Dance Studio\, 118 N 7th Street.\n<br>Pre-Registration is Required.  Call Kelly Morgan to register at 228-8244
LOCATION:118 N 7th Streete
UID:e.41.2637
SEQUENCE:3
DTSTAMP:20260425T032433Z
URL:https://business.beatricechamber.com/events/details/beginning-ballroom-dance-10-06-2010-2637
END:VEVENT

END:VCALENDAR
