BEGIN:VCALENDAR
VERSION:2.0
PRODID:-//ChamberMaster//Event Calendar 2.0//EN
METHOD:PUBLISH
X-PUBLISHED-TTL:P3D
REFRESH-INTERVAL:P3D
CALSCALE:GREGORIAN
BEGIN:VEVENT
DTSTART;VALUE=DATE:20100206
DTEND;VALUE=DATE:20100207
TRANSP:TRANSPARENT
X-MICROSOFT-CDO-ALLDAYEVENT:TRUE
SUMMARY:Belle and friends tea
DESCRIPTION:Belle and friends tea Valentino's Primavera Room7th & Court StreetsBeatrice Meet with Belle and friends from the upcoming Community Players musical\, "Beauty and the Beast."   Tickets: $8 (includes souvenir photo)\; available at Community Players Box Office\, 412 Ella St.\, or at the event.   Party dresses\, princess costumes or other favorite costumes are welcome attire.   www.beatricecommunityplayers.com
X-ALT-DESC;FMTTYPE=text/html:<div><span style="font-size: medium">Belle and friends tea</span></div><div>&nbsp\;</div><div><span style="font-size: medium">Valentino's Primavera Room</span></div><div><span style="font-size: medium">7th &amp\; Court Streets</span></div><div><span style="font-size: medium">Beatrice</span></div><div>&nbsp\;</div><div><span style="font-size: small">Meet with Belle and friends from the upcoming Community Players musical\, &quot\;Beauty and the Beast.&quot\;&nbsp\; </span></div><div>&nbsp\;</div><div><span style="font-size: small">Tickets: $8 (includes souvenir photo)\; available at Community Players Box Office\, 412 Ella St.\, or at the event.&nbsp\; </span></div><div>&nbsp\;</div><div><span style="font-size: small">Party dresses\, princess costumes or other favorite costumes are welcome attire.&nbsp\; </span></div><div>&nbsp\;</div><div><a href="http://www.beatricecommunityplayers.com"><span style="font-size: small">www.beatricecommunityplayers.com</span></a></div><div>&nbsp\;</div><div>&nbsp\;</div>
LOCATION:Valentino's Primavera Room7th & Court StreetsBeatrice\, NE
UID:e.41.1615
SEQUENCE:3
DTSTAMP:20260425T165451Z
URL:https://business.beatricechamber.com/events/details/belle-and-friends-tea-02-06-2010-1615
END:VEVENT

END:VCALENDAR
