BEGIN:VCALENDAR
VERSION:2.0
PRODID:-//ChamberMaster//Event Calendar 2.0//EN
METHOD:PUBLISH
X-PUBLISHED-TTL:P3D
REFRESH-INTERVAL:P3D
CALSCALE:GREGORIAN
BEGIN:VEVENT
DTSTART;VALUE=DATE:20110806
DTEND;VALUE=DATE:20110807
TRANSP:TRANSPARENT
X-MICROSOFT-CDO-ALLDAYEVENT:TRUE
SUMMARY:Benefit for Gracie Schultz
DESCRIPTION:A Poker Run Benefit is planned for August 6 to help with medical expenses for Gracie Schultz of Beatrice who has an inoperable brain tumor.  The Poker Run starts with sign-in at The Office Bar\, 513 Ella St.\, Beatrice\, from 9:30 a.m. to 11 a.m.  The run begins at 11 a.m.  The cost to participate is $10 per person or $15 per couple.  Other stops include Humboldt\, Barneston\, Diller\, Steele City and Harbine.  Food will be available in Humboldt\, and a potluck at The Office Bar after the run.  The day include a raffle for items donated by businesses and a 50/50 drawing. \n\n\n\nFor more information\, contact Theresa Stege at 402-520-3130.\n\n\n\nGracie is the daughter of Jessica Schultz and Steve McCarthy of Beatrice and Jason Schultz of Humboldt.
X-ALT-DESC;FMTTYPE=text/html:A Poker Run Benefit is planned for August 6 to help with medical expenses for Gracie Schultz of Beatrice who has an inoperable brain tumor.&nbsp\; The Poker Run starts with sign-in at The Office Bar\, 513 Ella St.\, Beatrice\, from 9:30 a.m. to 11 a.m.&nbsp\; The run begins at 11 a.m.&nbsp\; The cost to participate is $10 per person or $15 per couple.&nbsp\; Other stops include Humboldt\, Barneston\, Diller\, Steele City and Harbine.&nbsp\; Food will be available in Humboldt\, and a potluck at The Office Bar after the run.&nbsp\; The day include a raffle for items donated by businesses and a 50/50 drawing.&nbsp\;<br />\n<br />\nFor more information\, contact Theresa Stege at 402-520-3130.<br />\n<br />\nGracie is the daughter of Jessica Schultz and Steve McCarthy of Beatrice and Jason Schultz of Humboldt.
LOCATION:
UID:e.41.4995
SEQUENCE:3
DTSTAMP:20260424T134359Z
URL:https://business.beatricechamber.com/events/details/benefit-for-gracie-schultz-08-06-2011-4995
END:VEVENT

END:VCALENDAR
