BEGIN:VCALENDAR
VERSION:2.0
PRODID:-//ChamberMaster//Event Calendar 2.0//EN
METHOD:PUBLISH
X-PUBLISHED-TTL:P3D
REFRESH-INTERVAL:P3D
CALSCALE:GREGORIAN
BEGIN:VEVENT
DTSTART;VALUE=DATE:20110207
DTEND;VALUE=DATE:20110208
TRANSP:TRANSPARENT
X-MICROSOFT-CDO-ALLDAYEVENT:TRUE
SUMMARY:BHS Band Concert
DESCRIPTION:BHS Band Concert\n\n\n\nMonday\, February 7\n\n7 p.m.\n\n\n\nHevelone Center for the Performing Arts at BHS\n\n600 Orange Blvd.\n\n\n\nSelections will be heard from the BHS Concert Band\, Wind Ensemble and Jazz Ensemble.  Special guest artist Dr. Darryl White from the University of Nebraska-Lincoln will solo with the Wind Ensemble and Jazz Ensemble.
X-ALT-DESC;FMTTYPE=text/html:BHS Band Concert<br />\n<br />\nMonday\, February 7<br />\n7 p.m.<br />\n<br />\nHevelone Center for the Performing Arts at BHS<br />\n600 Orange Blvd.<br />\n<br />\nSelections will be heard from the BHS Concert Band\, Wind Ensemble and Jazz Ensemble.&nbsp\; Special guest artist Dr. Darryl White from the University of Nebraska-Lincoln will solo with the Wind Ensemble and Jazz Ensemble.
LOCATION:
UID:e.41.3297
SEQUENCE:3
DTSTAMP:20260424T225519Z
URL:https://business.beatricechamber.com/events/details/bhs-band-concert-02-07-2011-3297
END:VEVENT

END:VCALENDAR
