BEGIN:VCALENDAR
VERSION:2.0
PRODID:-//ChamberMaster//Event Calendar 2.0//EN
METHOD:PUBLISH
X-PUBLISHED-TTL:P3D
REFRESH-INTERVAL:P3D
CALSCALE:GREGORIAN
BEGIN:VEVENT
DTSTART;VALUE=DATE:20111118
DTEND;VALUE=DATE:20111119
TRANSP:TRANSPARENT
X-MICROSOFT-CDO-ALLDAYEVENT:TRUE
SUMMARY:BHS Booster Club 2011-2012 Kick off
DESCRIPTION:5:30-7pm Brisket meal and activities\n\nAt the Beatrice High School\n\nTickets available at the BHS Office or at the door
X-ALT-DESC;FMTTYPE=text/html:5:30-7pm Brisket meal and activities<br />\nAt the Beatrice High School<br />\nTickets available at the BHS Office or at the door
LOCATION:
UID:e.41.5255
SEQUENCE:3
DTSTAMP:20260424T111016Z
URL:https://business.beatricechamber.com/events/details/bhs-booster-club-2011-2012-kick-off-11-18-2011-5255
END:VEVENT

END:VCALENDAR
