BEGIN:VCALENDAR
VERSION:2.0
PRODID:-//ChamberMaster//Event Calendar 2.0//EN
METHOD:PUBLISH
X-PUBLISHED-TTL:P3D
REFRESH-INTERVAL:P3D
CALSCALE:GREGORIAN
BEGIN:VEVENT
DTSTART:20110115T233000Z
DTEND:20110116T013000Z
X-MICROSOFT-CDO-ALLDAYEVENT:FALSE
SUMMARY:BHS Chili Cook-Off
DESCRIPTION:BHS Chili Cook-Off:\n\n\n\nAll you can eat $5.00\n\n\n\n*Chili Soup *Chicken Noodle Soup *Cinnamon Rolls\n\n\n\nBeatrice High School Commons Area\n\n\n\nEnter your recipe in the Greatest Chili Cook-Off- Sign up deadline December 10\, 2010\n\nContact: Beatrice High School Office
X-ALT-DESC;FMTTYPE=text/html:<strong><span style="font-size: 14px\;">BHS Chili Cook-Off:</span></strong><br />\n<br />\nAll you can eat $5.00<br />\n<br />\n*Chili Soup *Chicken Noodle Soup *Cinnamon Rolls<br />\n<br />\nBeatrice High School Commons Area<br />\n<br />\nEnter your recipe in the Greatest Chili Cook-Off- Sign up deadline December 10\, 2010<br />\nContact: Beatrice High School Office<br />\n
LOCATION:
UID:e.41.2878
SEQUENCE:3
DTSTAMP:20260425T003443Z
URL:https://business.beatricechamber.com/events/details/bhs-chili-cook-off-01-15-2011-2878
END:VEVENT

END:VCALENDAR
