BEGIN:VCALENDAR
VERSION:2.0
PRODID:-//ChamberMaster//Event Calendar 2.0//EN
METHOD:PUBLISH
X-PUBLISHED-TTL:P3D
REFRESH-INTERVAL:P3D
CALSCALE:GREGORIAN
BEGIN:VEVENT
DTSTART:20120907T213000Z
DTEND:20120908T003000Z
X-MICROSOFT-CDO-ALLDAYEVENT:FALSE
SUMMARY:BHS Dance Team Chicken Dinner
DESCRIPTION:The Beatrice High School Dance Team will be hosting a Van's BBQ Chicken Fundraiser Dinner in the BHS commons before the Beatrice vs. York home football game.\n\n\n\nTickets are $8.50 and available in the BHS office. One can choose to dine in or carryout. Enjoy a pregame dinner with table service by the BHS Dance Team.
X-ALT-DESC;FMTTYPE=text/html:The Beatrice High School Dance Team will be hosting a Van&#39\;s BBQ Chicken Fundraiser Dinner in the BHS commons before the Beatrice vs. York home football game.<br />\n<br />\nTickets are $8.50&nbsp\;and available in the BHS office. One can choose to dine in or carryout. Enjoy a pregame dinner with table service by the BHS Dance Team.
LOCATION:Beatrice High School commons
UID:e.41.6629
SEQUENCE:3
DTSTAMP:20260422T090458Z
URL:https://business.beatricechamber.com/events/details/bhs-dance-team-chicken-dinner-09-07-2012-6629
END:VEVENT

END:VCALENDAR
