BEGIN:VCALENDAR
VERSION:2.0
PRODID:-//ChamberMaster//Event Calendar 2.0//EN
METHOD:PUBLISH
X-PUBLISHED-TTL:P3D
REFRESH-INTERVAL:P3D
CALSCALE:GREGORIAN
BEGIN:VEVENT
DTSTART;VALUE=DATE:20111210
DTEND;VALUE=DATE:20111211
TRANSP:TRANSPARENT
X-MICROSOFT-CDO-ALLDAYEVENT:TRUE
SUMMARY:BHS FCCLA Crafts on the Boulevard
DESCRIPTION:9am-4pm in the BHS Commons area\n\nfor more information contact\n\nDawn Ruzicka 402-223-1500 ext 1827
X-ALT-DESC;FMTTYPE=text/html:9am-4pm in the BHS Commons area<br />\nfor more information contact<br />\nDawn Ruzicka 402-223-1500 ext 1827
LOCATION:
UID:e.41.5256
SEQUENCE:3
DTSTAMP:20260424T083259Z
URL:https://business.beatricechamber.com/events/details/bhs-fccla-crafts-on-the-boulevard-12-10-2011-5256
END:VEVENT

END:VCALENDAR
