BEGIN:VCALENDAR
VERSION:2.0
PRODID:-//ChamberMaster//Event Calendar 2.0//EN
METHOD:PUBLISH
X-PUBLISHED-TTL:P3D
REFRESH-INTERVAL:P3D
CALSCALE:GREGORIAN
BEGIN:VEVENT
DTSTART:20090803T233000Z
DTEND:20090806T013000Z
X-MICROSOFT-CDO-ALLDAYEVENT:FALSE
SUMMARY:BHS Football Camp Grades 3-6
DESCRIPTION:Players who have not pre-registered can do so the first night of camp. FOr more inform ation contact Beatrice hnead football coach Bob Sexton at 520-2264
X-ALT-DESC;FMTTYPE=text/html:<div>Players who have not pre-registered can do so the first night of camp.</div><div>&nbsp\;</div><div>FOr more inform ation contact Beatrice hnead football coach Bob Sexton at 520-2264</div>
LOCATION:
UID:e.41.1321
SEQUENCE:3
DTSTAMP:20260426T011954Z
URL:https://business.beatricechamber.com/events/details/bhs-football-camp-grades-3-6-08-03-2009-1321
END:VEVENT

END:VCALENDAR
