BEGIN:VCALENDAR
VERSION:2.0
PRODID:-//ChamberMaster//Event Calendar 2.0//EN
METHOD:PUBLISH
X-PUBLISHED-TTL:P3D
REFRESH-INTERVAL:P3D
CALSCALE:GREGORIAN
BEGIN:VEVENT
DTSTART:20090806T230000Z
DTEND:20090807T000000Z
X-MICROSOFT-CDO-ALLDAYEVENT:FALSE
SUMMARY:BHS Freshman Orientation
DESCRIPTION:Ninth Grade orientation will be held Thursday at 6:00 pm in the Hevelone Cetner for Performing Arts at BHS
X-ALT-DESC;FMTTYPE=text/html:<div>Ninth Grade orientation will be held Thursday at 6:00 pm in the Hevelone Cetner for Performing Arts at BHS</div>
LOCATION:
UID:e.41.1381
SEQUENCE:3
DTSTAMP:20260426T011600Z
URL:https://business.beatricechamber.com/events/details/bhs-freshman-orientation-08-06-2009-1381
END:VEVENT

END:VCALENDAR
