BEGIN:VCALENDAR
VERSION:2.0
PRODID:-//ChamberMaster//Event Calendar 2.0//EN
METHOD:PUBLISH
X-PUBLISHED-TTL:P3D
REFRESH-INTERVAL:P3D
CALSCALE:GREGORIAN
BEGIN:VEVENT
DTSTART;VALUE=DATE:20120209
DTEND;VALUE=DATE:20120210
TRANSP:TRANSPARENT
X-MICROSOFT-CDO-ALLDAYEVENT:TRUE
SUMMARY:BHS Parent Teacher Conferences
DESCRIPTION:Beatrice High School Parent Teacher Conferences\n\n\n\n4:30 - 8:30 pm\n\nTuesday\, February 7\n\nThursday\, February 9\n\n\n\nBeatrice High School Commons Area
X-ALT-DESC;FMTTYPE=text/html:Beatrice High School Parent Teacher Conferences<br />\n<br />\n4:30 - 8:30 pm<br />\nTuesday\, February 7<br />\nThursday\, February 9<br />\n<br />\nBeatrice High School Commons Area
LOCATION:
UID:e.41.5307
SEQUENCE:3
DTSTAMP:20260422T185351Z
URL:https://business.beatricechamber.com/events/details/bhs-parent-teacher-conferences-02-09-2012-5307
END:VEVENT

END:VCALENDAR
